Workbook

Sheet Verlofregistratie
A1: Helderwerk — gratis verlofregistratie sjabloon
A2: Verlofregistratie — één regel per aanvraag/opname. Kies bij Soort of het om vakantiedagen of tijd-voor-tijd gaat; het tabblad Verlofsaldo telt dit automatisch per medewerker op.
A4: Medewerker | B4: Van | C4: Tot | D4: Aantal dagen | E4: Soort
A5: Jansen, Eva | B5: 46209 | C5: 46213 | D5: 5 | E5: Vakantie

Sheet Verlofsaldo
A1: Verlofsaldo
A2: Vul per medewerker het opgebouwde aantal dagen in (kolom B en E) — het opgenomen aantal (kolom C en F) en het resterende saldo (kolom D en G) worden automatisch berekend uit het tabblad Verlofregistratie. Zorg dat namen exact overeenkomen.
B4: Vakantiedagen | E4: Tijd-voor-tijd
A5: Medewerker | B5: Opgebouwd | C5: Opgenomen | D5: Resterend | E5: Opgebouwd | F5: Opgenomen | G5: Resterend
A6: Jansen, Eva | B6: 25 | C6: =IF($A6="","",SUMIFS(Verlofregistratie!$D$5:$D$34,Verlofregistratie!$A$5:$A$34,$A6,Verlofregistratie!$E$5:$E$34,"Vakantie")) | D6: =IF($A6="","",B6-C6) | E6: 0 | F6: =IF($A6="","",SUMIFS(Verlofregistratie!$D$5:$D$34,Verlofregistratie!$A$5:$A$34,$A6,Verlofregistratie!$E$5:$E$34,"Tijd-voor-tijd")) | G6: =IF($A6="","",E6-F6)
C7: =IF($A7="","",SUMIFS(Verlofregistratie!$D$5:$D$34,Verlofregistratie!$A$5:$A$34,$A7,Verlofregistratie!$E$5:$E$34,"Vakantie")) | D7: =IF($A7="","",B7-C7) | F7: =IF($A7="","",SUMIFS(Verlofregistratie!$D$5:$D$34,Verlofregistratie!$A$5:$A$34,$A7,Verlofregistratie!$E$5:$E$34,"Tijd-voor-tijd")) | G7: =IF($A7="","",E7-F7)
C8: =IF($A8="","",SUMIFS(Verlofregistratie!$D$5:$D$34,Verlofregistratie!$A$5:$A$34,$A8,Verlofregistratie!$E$5:$E$34,"Vakantie")) | D8: =IF($A8="","",B8-C8) | F8: =IF($A8="","",SUMIFS(Verlofregistratie!$D$5:$D$34,Verlofregistratie!$A$5:$A$34,$A8,Verlofregistratie!$E$5:$E$34,"Tijd-voor-tijd")) | G8: =IF($A8="","",E8-F8)
C9: =IF($A9="","",SUMIFS(Verlofregistratie!$D$5:$D$34,Verlofregistratie!$A$5:$A$34,$A9,Verlofregistratie!$E$5:$E$34,"Vakantie")) | D9: =IF($A9="","",B9-C9) | F9: =IF($A9="","",SUMIFS(Verlofregistratie!$D$5:$D$34,Verlofregistratie!$A$5:$A$34,$A9,Verlofregistratie!$E$5:$E$34,"Tijd-voor-tijd")) | G9: =IF($A9="","",E9-F9)
C10: =IF($A10="","",SUMIFS(Verlofregistratie!$D$5:$D$34,Verlofregistratie!$A$5:$A$34,$A10,Verlofregistratie!$E$5:$E$34,"Vakantie")) | D10: =IF($A10="","",B10-C10) | F10: =IF($A10="","",SUMIFS(Verlofregistratie!$D$5:$D$34,Verlofregistratie!$A$5:$A$34,$A10,Verlofregistratie!$E$5:$E$34,"Tijd-voor-tijd")) | G10: =IF($A10="","",E10-F10)
C11: =IF($A11="","",SUMIFS(Verlofregistratie!$D$5:$D$34,Verlofregistratie!$A$5:$A$34,$A11,Verlofregistratie!$E$5:$E$34,"Vakantie")) | D11: =IF($A11="","",B11-C11) | F11: =IF($A11="","",SUMIFS(Verlofregistratie!$D$5:$D$34,Verlofregistratie!$A$5:$A$34,$A11,Verlofregistratie!$E$5:$E$34,"Tijd-voor-tijd")) | G11: =IF($A11="","",E11-F11)
C12: =IF($A12="","",SUMIFS(Verlofregistratie!$D$5:$D$34,Verlofregistratie!$A$5:$A$34,$A12,Verlofregistratie!$E$5:$E$34,"Vakantie")) | D12: =IF($A12="","",B12-C12) | F12: =IF($A12="","",SUMIFS(Verlofregistratie!$D$5:$D$34,Verlofregistratie!$A$5:$A$34,$A12,Verlofregistratie!$E$5:$E$34,"Tijd-voor-tijd")) | G12: =IF($A12="","",E12-F12)
C13: =IF($A13="","",SUMIFS(Verlofregistratie!$D$5:$D$34,Verlofregistratie!$A$5:$A$34,$A13,Verlofregistratie!$E$5:$E$34,"Vakantie")) | D13: =IF($A13="","",B13-C13) | F13: =IF($A13="","",SUMIFS(Verlofregistratie!$D$5:$D$34,Verlofregistratie!$A$5:$A$34,$A13,Verlofregistratie!$E$5:$E$34,"Tijd-voor-tijd")) | G13: =IF($A13="","",E13-F13)
C14: =IF($A14="","",SUMIFS(Verlofregistratie!$D$5:$D$34,Verlofregistratie!$A$5:$A$34,$A14,Verlofregistratie!$E$5:$E$34,"Vakantie")) | D14: =IF($A14="","",B14-C14) | F14: =IF($A14="","",SUMIFS(Verlofregistratie!$D$5:$D$34,Verlofregistratie!$A$5:$A$34,$A14,Verlofregistratie!$E$5:$E$34,"Tijd-voor-tijd")) | G14: =IF($A14="","",E14-F14)
C15: =IF($A15="","",SUMIFS(Verlofregistratie!$D$5:$D$34,Verlofregistratie!$A$5:$A$34,$A15,Verlofregistratie!$E$5:$E$34,"Vakantie")) | D15: =IF($A15="","",B15-C15) | F15: =IF($A15="","",SUMIFS(Verlofregistratie!$D$5:$D$34,Verlofregistratie!$A$5:$A$34,$A15,Verlofregistratie!$E$5:$E$34,"Tijd-voor-tijd")) | G15: =IF($A15="","",E15-F15)
C16: =IF($A16="","",SUMIFS(Verlofregistratie!$D$5:$D$34,Verlofregistratie!$A$5:$A$34,$A16,Verlofregistratie!$E$5:$E$34,"Vakantie")) | D16: =IF($A16="","",B16-C16) | F16: =IF($A16="","",SUMIFS(Verlofregistratie!$D$5:$D$34,Verlofregistratie!$A$5:$A$34,$A16,Verlofregistratie!$E$5:$E$34,"Tijd-voor-tijd")) | G16: =IF($A16="","",E16-F16)
C17: =IF($A17="","",SUMIFS(Verlofregistratie!$D$5:$D$34,Verlofregistratie!$A$5:$A$34,$A17,Verlofregistratie!$E$5:$E$34,"Vakantie")) | D17: =IF($A17="","",B17-C17) | F17: =IF($A17="","",SUMIFS(Verlofregistratie!$D$5:$D$34,Verlofregistratie!$A$5:$A$34,$A17,Verlofregistratie!$E$5:$E$34,"Tijd-voor-tijd")) | G17: =IF($A17="","",E17-F17)
C18: =IF($A18="","",SUMIFS(Verlofregistratie!$D$5:$D$34,Verlofregistratie!$A$5:$A$34,$A18,Verlofregistratie!$E$5:$E$34,"Vakantie")) | D18: =IF($A18="","",B18-C18) | F18: =IF($A18="","",SUMIFS(Verlofregistratie!$D$5:$D$34,Verlofregistratie!$A$5:$A$34,$A18,Verlofregistratie!$E$5:$E$34,"Tijd-voor-tijd")) | G18: =IF($A18="","",E18-F18)
... C20: =IF($A20="","",SUMIFS(Verlofregistratie!$D$5:$D$34,Verlofregistratie!$A$5:$A$34,$A20,Verlofregistratie!$E$5:$E$34,"Vakantie")) | D20: =IF($A20="","",B20-C20) | F20: =IF($A20="","",SUMIFS(Verlofregistratie!$D$5:$D$34,Verlofregistratie!$A$5:$A$34,$A20,Verlofregistratie!$E$5:$E$34,"Tijd-voor-tijd")) | G20: =IF($A20="","",E20-F20)
A21: Totaal | B21: =SUM(B6:B20) | C21: =SUM(C6:C20) | D21: =SUM(D6:D20) | E21: =SUM(E6:E20) | F21: =SUM(F6:F20) | G21: =SUM(G6:G20)
